BEGIN:VCALENDAR
VERSION:2.0
PRODID:-//LAV - ECPv6.15.20//NONSGML v1.0//EN
CALSCALE:GREGORIAN
METHOD:PUBLISH
X-WR-CALNAME:LAV
X-ORIGINAL-URL:https://lavedu.org
X-WR-CALDESC:Eventos para LAV
REFRESH-INTERVAL;VALUE=DURATION:PT1H
X-Robots-Tag:noindex
X-PUBLISHED-TTL:PT1H
BEGIN:VTIMEZONE
TZID:America/Bogota
BEGIN:STANDARD
TZOFFSETFROM:-0500
TZOFFSETTO:-0500
TZNAME:-05
DTSTART:20210101T000000
END:STANDARD
END:VTIMEZONE
BEGIN:VTIMEZONE
TZID:UTC
BEGIN:STANDARD
TZOFFSETFROM:+0000
TZOFFSETTO:+0000
TZNAME:UTC
DTSTART:20200101T000000
END:STANDARD
END:VTIMEZONE
BEGIN:VEVENT
DTSTART;TZID=America/Bogota:20231025T150000
DTEND;TZID=America/Bogota:20231025T170000
DTSTAMP:20260423T104914
CREATED:20231023T145904Z
LAST-MODIFIED:20231023T150032Z
UID:4156-1698246000-1698253200@lavedu.org
SUMMARY:Webinario ""Salud Integral para las Mujeres"
DESCRIPTION:Este webinar está diseñado para mujeres de todas las edades y abordará una amplia variedad de temas relacionados con la salud y el bienestar femenino. Nuestras invitadas especiales proporcionarán información valiosa y consejos prácticos para ayudarte a cuidar tu salud en todas las etapas de la vida.
URL:https://lavedu.org/event/webinario-salud-integral-para-las-mujeres/
CATEGORIES:Webinarios
ATTACH;FMTTYPE=image/png:https://lavedu.org/wp-content/uploads/2023/10/SALUD-INTEGRAL-WEBINAR-04.png
END:VEVENT
BEGIN:VEVENT
DTSTART;TZID=America/Bogota:20230705T190000
DTEND;TZID=America/Bogota:20230705T203000
DTSTAMP:20260423T104914
CREATED:20230705T200215Z
LAST-MODIFIED:20230705T200215Z
UID:4125-1688583600-1688589000@lavedu.org
SUMMARY:MASTER CLASS
DESCRIPTION:Los invitamos a registrarse en nuestra Master Class del curso «Aprendiendo a Vivir con VIH» \, regístrate aquí: https://events.teams.microsoft.com/event/311dae4f-41a0-4f9e-8beb-32cd13d03979@999fd770-568f-4096-b41d-627cfe16a8aa \nDia: 7 de julio 2023 \nHora: 7 pm hora de Ecuador
URL:https://lavedu.org/event/master-class/
CATEGORIES:Webinarios
ATTACH;FMTTYPE=image/png:https://lavedu.org/wp-content/uploads/2023/07/invitacion-web.png
END:VEVENT
BEGIN:VEVENT
DTSTART;VALUE=DATE:20230607
DTEND;VALUE=DATE:20230608
DTSTAMP:20260423T104914
CREATED:20230607T115947Z
LAST-MODIFIED:20230607T115947Z
UID:4116-1686096000-1686182399@lavedu.org
SUMMARY:Diálogo entre múltiples partes interesadas: una perspectiva de género en el sector tecnológico
DESCRIPTION:Este diálogo multiactor forma parte del proyecto de intercambio de conocimientos «Women* in Tech» y se llevará en español.  \nEvento deonde CEPAM G presentará su organización el trabajo que realiza y sus programas de LAV y PROMESA \n 
URL:https://lavedu.org/event/dialogo-entre-multiples-partes-interesadas-una-perspectiva-de-genero-en-el-sector-tecnologico/
END:VEVENT
BEGIN:VEVENT
DTSTART;TZID=America/Bogota:20230324T093000
DTEND;TZID=America/Bogota:20230324T110000
DTSTAMP:20260423T104914
CREATED:20230214T170442Z
LAST-MODIFIED:20230214T170442Z
UID:4077-1679650200-1679655600@lavedu.org
SUMMARY:Charla de Empoderamiento Emocional: Mujeres construyendo resiliencia
DESCRIPTION:Fecha: 24 de marzo\nModalidad: Presencial\nHorario: 9:30 am a 11:00 am\nPublico: Dirigido a estudiantes\, personal de código de trabajo\, administrativos de la comunidad politécnica.\n← Volver Gracias por tu respuesta. ✨\n\n\n					\n						\n							\n							\n						\n						\n						\n						\n						\n							\n								\n									\n										\n										\n									\n									\n										\n										\n									\n								\n							\n						\n						\n							\n								\n									\n									\n										\n									\n									\n									\n								\n							\n						\n					\n				\n\n\n\nNombre(obligatorio)\n\n \n			\n				\n					\n						\n						\n						\n					\n				\n				\n			 \n	\n\n\nCorreo electrónico(obligatorio)\n\n \n			\n				\n					\n						\n						\n						\n					\n				\n				\n			 \n	\n\n\nWeb\n\n \n			\n				\n					\n						\n						\n						\n					\n				\n				\n			 \n	\n\n\nMensaje\n\n \n			\n				\n					\n						\n						\n						\n					\n				\n				\n			\n	\n	\n\n				\n					\n				\n						Enviar
URL:https://lavedu.org/event/charla-de-empoderamiento-emocional-mujeres-construyendo-resiliencia/
END:VEVENT
BEGIN:VEVENT
DTSTART;TZID=America/Bogota:20230307T090000
DTEND;TZID=America/Bogota:20230307T103000
DTSTAMP:20260423T104914
CREATED:20230214T171842Z
LAST-MODIFIED:20230214T171919Z
UID:4072-1678179600-1678185000@lavedu.org
SUMMARY:Charla Violencia Intrafamiliar-ESPOL
DESCRIPTION:Fecha: 7 de marzo\nModalidad: Presencial\nHorario: 9:00 am a 10:30 am charla general\nPublico: Dirigido a estudiantes\, personal de código de trabajo\, administrativos de la comunidad politécnica.
URL:https://lavedu.org/event/charla-violencia-intrafamiliar-espol/
CATEGORIES:Charlas presenciales
ORGANIZER;CN="CEPAM Guayaquil":MAILTO:info@lavedu.org
END:VEVENT
BEGIN:VEVENT
DTSTART;TZID=America/Bogota:20230215T153000
DTEND;TZID=America/Bogota:20230215T170000
DTSTAMP:20260423T104914
CREATED:20230213T215552Z
LAST-MODIFIED:20230214T172106Z
UID:4032-1676475000-1676480400@lavedu.org
SUMMARY:Charlas de Violencia en el ámbito Laboral en Empresas
DESCRIPTION:Charlas de 40 minutos cada grupo de 40 personas\, \nHorario: en coordinación con la empresa \nIncluye. \n  \nMaterial \nCertificados digitales asistentes \nCertificado impreso para empresa \nMesa de información
URL:https://lavedu.org/event/charlas-de-violencia-en-el-ambito-laboral-en-empresas/
CATEGORIES:Charlas presenciales
END:VEVENT
BEGIN:VEVENT
DTSTART;TZID=UTC:20221028T103000
DTEND;TZID=UTC:20221028T123000
DTSTAMP:20260423T104914
CREATED:20221026T021831Z
LAST-MODIFIED:20221026T021831Z
UID:3746-1666953000-1666960200@lavedu.org
SUMMARY:Programa de Mujeres Emprendedoras y Autonomía para la Prevención de la Violencia de Género "PROMESA"
DESCRIPTION:
URL:https://lavedu.org/event/programa-de-mujeres-emprendedoras-y-autonomia-para-la-prevencion-de-la-violencia-de-genero-promesa/
END:VEVENT
BEGIN:VEVENT
DTSTART;TZID=America/Bogota:20220909T150000
DTEND;TZID=America/Bogota:20220909T173000
DTSTAMP:20260423T104914
CREATED:20220905T173026Z
LAST-MODIFIED:20220905T182031Z
UID:3077-1662735600-1662744600@lavedu.org
SUMMARY:Webinar  La educación con enfoque de género y su incidencia en una vida libre de violencia
DESCRIPTION:La educación con enfoque de género y su incidencia en una vida libre de violencia \n\n\n\n\n\n\n\n\n\n\nEl día del evento te enviaremos un correo con los links de transmisión. \n  \n📅 FECHA:  09 de Septiembre \n⏰ HORA: 3:oo pm hora Ecuador \n🎥 TRANSMISIÓN: Facebook y Youtube
URL:https://lavedu.org/event/webinar-la-educacion-con-enfoque-de-genero-y-su-incidencia-en-una-vida-libre-de-violencia/
CATEGORIES:Webinarios
ATTACH;FMTTYPE=image/jpeg:https://lavedu.org/wp-content/uploads/2022/09/WhatsApp-Image-2022-08-31-at-4.48.34-PM-2.jpeg
END:VEVENT
BEGIN:VEVENT
DTSTART;TZID=UTC:20220701T180000
DTEND;TZID=UTC:20220701T200000
DTSTAMP:20260423T104914
CREATED:20220615T223342Z
LAST-MODIFIED:20220620T201310Z
UID:2954-1656698400-1656705600@lavedu.org
SUMMARY:Webinar Litigio Estratégico Feminista para el tratamiento de las violencias basadas en género
DESCRIPTION:Lxs invitamos a inscribirse totalmente gratis y aprender sobre Litigio Estratégico Feminista\, una herramienta jurídica\, defensa de los Derechos Humanos\, enfoque de género\, Sistema Interamericano de Derechos Humanos. \nEl Laboratorio de Aprendizaje Virtual y El Centro de Respuestas Legales\, liderados por CEPAM-Guayaquil (Centro Ecuatoriano para la Promoción y Acción de la Mujer)\, nos hablan sobre la nueva edición de su curso de “Litigio Estratégico Feminista –LEF”. \n¿Qué queremos lograr con el curso? \nEl curso Litigio Estratégico Feminista – LEF\, tiene como objetivo desarrollar y fortalecer la comprensión de la naturaleza del LEF; como un importante paso hacia la justicia social\, el cambio\nde comportamiento y la integración de una perspectiva de feminista interseccional en el trabajo\ndiario del personal dedicado a la defensa de los derechos humanos de las mujeres\, niñas y personas de género diverso y su derecho a vivir una vida libre de violencia \nPanelista Invitada \nConsuelo Bowen Manzur\nCOORDINADORA DEL CENTRO DE RESPUESTAS LEGALES CEPAM GUAYAQUIL \nEntonces\, ¿por qué esperar? \nRegístrate gratis en nuestro link 👇
URL:https://lavedu.org/event/webinar-litigio-estrategico-feminista-para-el-tratamiento-de-las-violencias-basadas-en-genero/
CATEGORIES:Webinarios
ATTACH;FMTTYPE=image/png:https://lavedu.org/wp-content/uploads/2022/06/Webinar-04_cambio-de-fecha.png
ORGANIZER;CN="CEPAM Guayaquil":MAILTO:info@lavedu.org
END:VEVENT
BEGIN:VEVENT
DTSTART;TZID=UTC:20220315T093000
DTEND;TZID=UTC:20220315T143000
DTSTAMP:20260423T104914
CREATED:20211101T204744Z
LAST-MODIFIED:20220407T140520Z
UID:2375-1647336600-1647354600@lavedu.org
SUMMARY:Lanzamiento del LAV
DESCRIPTION:Coloquio “LOGROS Y DESAFÍOS: PROPUESTAS TRANSFORMADORAS DESDE LA JUSTICIA SOCIAL Y LA ECONOMÍA FEMINISTA” \nComo parte del conjunto de procesos\, acciones formativas y de transferencia de conocimiento que el CEPAM-G ofrece\, con el fin de actualizar y profundizar los conocimientos en derechos humanos y como medio para elevar su nivel académico e investigativo\, perfeccionar su desarrollo profesional y contribuir a la actualización de conocimientos. \n🟠 Sitio Oficial del evento: http://www.indteca.com \n15 de Marzo – «Logros y desafíos: propuestas transformadoras desde la justicia social y la economía feminista» \nhttps://fb.watch/ceG6J5nFpo/ \n 
URL:https://lavedu.org/event/lanzamiento-del-lav/
LOCATION:Virtual\, Guayaquil\, Ecuador
ATTACH;FMTTYPE=image/png:https://lavedu.org/wp-content/uploads/2021/11/act-lav-01.png
ORGANIZER;CN="CEPAM Guayaquil":MAILTO:info@lavedu.org
END:VEVENT
BEGIN:VEVENT
DTSTART;TZID=UTC:20210826T180000
DTEND;TZID=UTC:20210828T190000
DTSTAMP:20260423T104914
CREATED:20210923T033747Z
LAST-MODIFIED:20220407T131636Z
UID:2023-1630000800-1630177200@lavedu.org
SUMMARY:Conversaciones que nos unen
DESCRIPTION:Conversaciones que nos unen es un espacio virtual\, en el que  propuso la reflexión analítica y crítica de las condiciones y demandas de la ciudadanía en Latinoamérica. \n26 de Agosto – «La Salud Sexual y Reproductiva de las mujeres: Un derecho  en todo nuestro ciclo de vida» \nhttps://fb.watch/v/2oLrjV-Df/ \n  \n27 de Agosto – “Salud Sexual y Reproductiva” \nhttps://fb.watch/70aeNIayeq/ \n  \n28 de Agosto – “Participación y Liderazgo juvenil” \nhttps://fb.watch/70agZ3Lxp7/
URL:https://lavedu.org/event/conversaciones-que-nos-unen/
CATEGORIES:Webinarios
ATTACH;FMTTYPE=image/png:https://lavedu.org/wp-content/uploads/2021/09/evento_1.png
END:VEVENT
BEGIN:VEVENT
DTSTART;TZID=UTC:20210616T170000
DTEND;TZID=UTC:20210618T180000
DTSTAMP:20260423T104914
CREATED:20210923T034404Z
LAST-MODIFIED:20211002T220131Z
UID:2028-1623862800-1624039200@lavedu.org
SUMMARY:La Violencia Digital
DESCRIPTION:I Jornada de Webinarios de Violencia Digital del Laboratorio de Aprendizaje Virtual #LAV \nDistintas formas de violencia digital como ciberacoso\, extorsión\, desprestigio\, amenazas\, suplantación y robo de identidad\, así como abuso sexual relacionado con la tecnología\, afectan a millones de mujeres y niñas en el mundo\, impidiendo su empoderamiento\, desarrollo y el pleno disfrute de sus derechos humanos como la dignidad\, la libertad de expresión\, la protección de datos personales\, y el acceso a la justicia. Esta situación se ha visto agravada en el contexto de la pandemia de Covid-19. \nSe abordó la problemática que refleja la gravedad de la Violencia Digital\, así como el impacto que la pandemia ha tenido en este ámbito. \n16 de Junio – “La violencia de género Digital” \nhttps://fb.watch/709FU_IIyE/ \n17 de Junio – “La educación virtual y el ciberacoso” \nhttps://fb.watch/v/1MBxma3Mw/ \n18 de Junio – “Ley de Violencia Digital en Ecuador y Aportes de Experiencias  Internacionales” \nhttps://fb.watch/v/19CeoXmFK/
URL:https://lavedu.org/event/la-violencia-digital/
ATTACH;FMTTYPE=image/png:https://lavedu.org/wp-content/uploads/2021/09/evento-2.png
END:VEVENT
END:VCALENDAR